BEGIN:VCALENDAR
VERSION:2.0
PRODID:-//Schwalbennest in Kupferzell - ECPv6.15.11//NONSGML v1.0//EN
CALSCALE:GREGORIAN
METHOD:PUBLISH
X-WR-CALNAME:Schwalbennest in Kupferzell
X-ORIGINAL-URL:https://schwalbennest-kupferzell.de
X-WR-CALDESC:Veranstaltungen für Schwalbennest in Kupferzell
REFRESH-INTERVAL;VALUE=DURATION:PT1H
X-Robots-Tag:noindex
X-PUBLISHED-TTL:PT1H
BEGIN:VTIMEZONE
TZID:Europe/Berlin
BEGIN:DAYLIGHT
TZOFFSETFROM:+0100
TZOFFSETTO:+0200
TZNAME:CEST
DTSTART:20230326T010000
END:DAYLIGHT
BEGIN:STANDARD
TZOFFSETFROM:+0200
TZOFFSETTO:+0100
TZNAME:CET
DTSTART:20231029T010000
END:STANDARD
BEGIN:DAYLIGHT
TZOFFSETFROM:+0100
TZOFFSETTO:+0200
TZNAME:CEST
DTSTART:20240331T010000
END:DAYLIGHT
BEGIN:STANDARD
TZOFFSETFROM:+0200
TZOFFSETTO:+0100
TZNAME:CET
DTSTART:20241027T010000
END:STANDARD
BEGIN:DAYLIGHT
TZOFFSETFROM:+0100
TZOFFSETTO:+0200
TZNAME:CEST
DTSTART:20250330T010000
END:DAYLIGHT
BEGIN:STANDARD
TZOFFSETFROM:+0200
TZOFFSETTO:+0100
TZNAME:CET
DTSTART:20251026T010000
END:STANDARD
END:VTIMEZONE
BEGIN:VEVENT
DTSTART;TZID=Europe/Berlin:20240306T190000
DTEND;TZID=Europe/Berlin:20240306T220000
DTSTAMP:20260419T182628
CREATED:20240213T150821Z
LAST-MODIFIED:20240213T151749Z
UID:1637-1709751600-1709762400@schwalbennest-kupferzell.de
SUMMARY:Mutmach-Abend für Eltern mit Nicola Vollkommer
DESCRIPTION:„Kindererziehung – Mühsamer Kampf oder Freude und Bereicherung?“\nDer Mutmach-Abend für Eltern und solche\, die es werden wollen: am 06. März im Evang. Gemeindehaus in Kupferzell (Kirchgasse 11/1 in 74635 Kupferzell)\nTeilnahme frei\, um eine kleine Spende wird gebeten. \nFlyer anschauen
URL:https://schwalbennest-kupferzell.de/veranstaltung/mutmach-abend-fuer-eltern-mit-nicola-vollkommer/
LOCATION:Evangelisches Gemeindehaus\, Kirchgasse 10\, Kupferzell\, 74635\, Deutschland
CATEGORIES:Veranstaltung
ATTACH;FMTTYPE=image/jpeg:https://schwalbennest-kupferzell.de/wp-content/uploads/2024/02/3428932.jpg
ORGANIZER;CN="Schwalbennest Kupferzell":MAILTO:info@schwalbennest-kupferzell.de
END:VEVENT
END:VCALENDAR